BEGIN:VCALENDAR
VERSION:2.0
PRODID:-//ChamberMaster//Event Calendar 2.0//EN
METHOD:PUBLISH
X-PUBLISHED-TTL:P3D
REFRESH-INTERVAL:P3D
CALSCALE:GREGORIAN
BEGIN:VEVENT
DTSTART:20241017T233000Z
DTEND:20241018T010000Z
X-MICROSOFT-CDO-ALLDAYEVENT:FALSE
SUMMARY:Business After Hours
DESCRIPTION:
X-ALT-DESC;FMTTYPE=text/html:
LOCATION:Location TBD
UID:e.491.15259
SEQUENCE:3
DTSTAMP:20260425T035207Z
URL:https://members.visitbelgrade.org/events/details/business-after-hours-10-17-2024-15259
END:VEVENT

END:VCALENDAR
