BEGIN:VCALENDAR
VERSION:2.0
PRODID:-//ChamberMaster//Event Calendar 2.0//EN
METHOD:PUBLISH
X-PUBLISHED-TTL:P3D
REFRESH-INTERVAL:P3D
CALSCALE:GREGORIAN
BEGIN:VEVENT
DTSTART:20240910T170000Z
DTEND:20240910T190000Z
X-MICROSOFT-CDO-ALLDAYEVENT:FALSE
SUMMARY:GGUW Annual Campagin Kickoff
DESCRIPTION:Join Us for the 2024-25 Greater Gallatin United Way Annual Campaign Kickoff!\n\nIn just one afternoon\, we can change thousands of lives. On September 10th\, join us as we bring together community leaders\, top employers\, local nonprofits\, and dedicated community members to launch a campaign that strengthens the fabric of Gallatin\, Park\, Meagher\, and Madison counties. Enjoy lunch while honoring those making a difference\, gain insights into our community's challenges\, and join us in leading the way to a brighter future.
X-ALT-DESC;FMTTYPE=text/html:<h3>Join Us for the 2024-25 Greater Gallatin United Way Annual Campaign Kickoff!</h3>\n\n<p>In just one afternoon\, we can change thousands of lives. On September 10th\, join us as we bring together community leaders\, top employers\, local nonprofits\, and dedicated community members to launch a campaign that strengthens the fabric of Gallatin\, Park\, Meagher\, and Madison counties.&nbsp\;Enjoy lunch while honoring those making a difference\, gain insights into our community&#39\;s challenges\, and join us in leading the way to a brighter future.</p>\n
LOCATION:MSU Strand Union Building Ballroom | 751 W Grant St Bozeman\, MT
UID:e.491.15734
SEQUENCE:3
DTSTAMP:20260425T003947Z
URL:https://members.visitbelgrade.org/events/details/gguw-annual-campagin-kickoff-15734
END:VEVENT

END:VCALENDAR
