BEGIN:VCALENDAR
VERSION:2.0
PRODID:-//ChamberMaster//Event Calendar 2.0//EN
METHOD:PUBLISH
X-PUBLISHED-TTL:P3D
REFRESH-INTERVAL:P3D
CALSCALE:GREGORIAN
BEGIN:VEVENT
DTSTART:20240913T000000Z
DTEND:20240913T030000Z
X-MICROSOFT-CDO-ALLDAYEVENT:FALSE
SUMMARY:The 9th Annual Prosperity Party
DESCRIPTION:The 9th Annual Prosperity Party\n\nSeptember 12\, 2024\n\nThe Commons\n\n6:00 - 9:00 pm\n\nJoin us for Prospera's signature fundraiser!\n\nPut on your finest Kentucky Derby attire and join us for an evening of fun and fundraising!\n\n \n\n\n\nHere's what you can expect at the 2024 Prosperity Party:\n\nDelectable menu from Chef Greg Montana!\n\nOpen beer and wine bar with additional refreshing beverages to keep you energized throughout the evening.\n\nSilent and live auctions generously donated by local businesses and supporters (we're accepting donations!).\n\nA welcoming and vibrant community of like-minded individuals passionate about making a difference and strengthening our local economy!
X-ALT-DESC;FMTTYPE=text/html:<h1 style="text-align:center">The 9th Annual Prosperity Party</h1>\n\n<p style="text-align:center">September 12\, 2024<br />\nThe Commons<br />\n6:00 - 9:00 pm</p>\n\n<p style="text-align:center">Join us for Prospera&#39\;s signature fundraiser!<br />\nPut on your finest Kentucky Derby attire and join us for an evening of fun and fundraising!<br />\n&nbsp\;</p>\n\n<p style="text-align:center"><br />\nHere&#39\;s what you can expect at the 2024 Prosperity Party:</p>\n\n<p style="text-align:center">Delectable menu from Chef Greg Montana!<br />\nOpen beer and wine bar with additional refreshing beverages to keep you energized throughout the evening.<br />\nSilent and live auctions generously donated by local businesses and supporters (we&#39\;re accepting donations!).<br />\nA welcoming and vibrant community of like-minded individuals passionate about making a difference and strengthening our local economy!</p>\n
LOCATION:The Commons 1794 E Baxter Ln\, Bozeman\, MT 59718
UID:e.491.15713
SEQUENCE:3
DTSTAMP:20260425T003412Z
URL:https://members.visitbelgrade.org/events/details/the-9th-annual-prosperity-party-15713
END:VEVENT

END:VCALENDAR
